BEGIN:VCALENDAR
VERSION:2.0
PRODID:-//wp-events-plugin.com//7.2.3.1//EN
TZID:Europe/Berlin
X-WR-TIMEZONE:Europe/Berlin
BEGIN:VEVENT
UID:22747@lichtblick-fuer-familien.de
DTSTART;TZID=Europe/Berlin:20220926T170000
DTEND;TZID=Europe/Berlin:20220926T183000
DTSTAMP:20220829T083615Z
URL:https://lichtblick-fuer-familien.de/termine/babys-tragen-eine-infovera
 nstaltung-fuer-werdende-eltern-und-eltern-mit-babys/
SUMMARY:Babys tragen - eine Infoveranstaltung für werdende Eltern und Elte
 rn mit Babys (Pegau) - Kleiner Rathaussaal - 26 Sep. 22 17:00
DESCRIPTION:Sie erhalten grundlegende Informationen rund um das Tragen von 
 Babys. Inhaltlich werden folgende Schwerpunkte angesprochen:\n\n 	Warum is
 t Tragen sinnvoll? \n 	Wie trage ich richtig? Worauf muss ich beim Tragen 
 achten? \n 	Was zeichnet eine gute Tragehilfe aus? \n 	Welche Tragesysteme
  gibt es?\n 	Welche Möglichkeiten habe ich beim Tragen mit den verschiede
 nen Systemen? \n\nDie Veranstaltung wird von Maria Guse (Trageberaterin) g
 eleitet.\n\nBei Interesse bitte anmelden!
CATEGORIES:Baby / Kind,Beratung,Eltern-Kind- Angebot,Vortrag
LOCATION:Kleiner Rathaussaal\, Markt 1\, Pegau\, Deutschland
GEO:51.16593719999999;12.252727899999968
X-APPLE-STRUCTURED-LOCATION;VALUE=URI;X-ADDRESS=Markt 1\, Pegau\, Deutschla
 nd;X-APPLE-RADIUS=100;X-TITLE=Kleiner Rathaussaal:geo:51.16593719999999,12
 .252727899999968
END:VEVENT
BEGIN:VTIMEZONE
TZID:Europe/Berlin
X-LIC-LOCATION:Europe/Berlin
BEGIN:DAYLIGHT
DTSTART:20220327T030000
TZOFFSETFROM:+0100
TZOFFSETTO:+0200
TZNAME:CEST
END:DAYLIGHT
END:VTIMEZONE
END:VCALENDAR