BEGIN:VCALENDAR
VERSION:2.0
PRODID:-//wp-events-plugin.com//7.2.3.1//EN
TZID:Europe/Berlin
X-WR-TIMEZONE:Europe/Berlin
BEGIN:VEVENT
UID:26271@lichtblick-fuer-familien.de
DTSTART;TZID=Europe/Berlin:20260508T093000
DTEND;TZID=Europe/Berlin:20260508T110000
DTSTAMP:20260420T075737Z
URL:https://lichtblick-fuer-familien.de/termine/babys-und-kleinkinder-alte
 rsgemaess-foerdern-2/
SUMMARY:Babys und Kleinkinder altersgemäß fördern - Familienzentrum Lich
 tblick e.V. - 8 Mai 26 09:30
DESCRIPTION:mit Maria Barheine (Frühförderstelle Leipziger Land)\n\nAnmel
 dung unter fz@lichtblick-fuer-familien.de
CATEGORIES:Baby / Kind,Praxisseminar,Workshop
LOCATION:Familienzentrum Lichtblick e.V.\, Hauptstraße 56\, Markkleeberg\,
  04416 \, Landkreis Leipzig\, Deutschland
GEO:51.2802261;12.374097900000038
X-APPLE-STRUCTURED-LOCATION;VALUE=URI;X-ADDRESS=Hauptstraße 56\, Markkleeb
 erg\, 04416 \, Landkreis Leipzig\, Deutschland;X-APPLE-RADIUS=100;X-TITLE=
 Familienzentrum Lichtblick e.V.:geo:51.2802261,12.374097900000038
END:VEVENT
BEGIN:VTIMEZONE
TZID:Europe/Berlin
X-LIC-LOCATION:Europe/Berlin
BEGIN:DAYLIGHT
DTSTART:20260329T030000
TZOFFSETFROM:+0100
TZOFFSETTO:+0200
TZNAME:CEST
END:DAYLIGHT
END:VTIMEZONE
END:VCALENDAR