BEGIN:VCALENDAR
VERSION:2.0
PRODID:-//wp-events-plugin.com//7.2.3.1//EN
TZID:Europe/Berlin
X-WR-TIMEZONE:Europe/Berlin
BEGIN:VEVENT
UID:12925@lichtblick-fuer-familien.de
DTSTART;TZID=Europe/Berlin:20170426T190000
DTEND;TZID=Europe/Berlin:20170426T210000
DTSTAMP:20170411T113721Z
URL:https://lichtblick-fuer-familien.de/termine/eine-reise-durch-den-zyklu
 s-der-frau/
SUMMARY:Eine Reise durch den Zyklus der Frau - Familienzentrum Lichtblick e
 .V. - 26 Apr. 17 19:00
DESCRIPTION:"Der Körper ist mein Haus und ich weiß\, dasss ich mein ganze
 s Leben darin verbringen werde. Also eigentlich Grund genug\, sich Gedanke
 n darüber zu machen\, wie man es sich darin einrichten möchte\, damit ei
 nem wohl ist." Marcella Barth\n\nDer Zyklus ist für Frauen ein wichtiger 
 Bestandteil ihres Lebens. Aber weiß jede Frau auch wirklich\, was in ihr 
 vorgeht? Durch Texte\, Fotos und Geschichten wird den körperlichen und se
 elischen Zusammenhängen des Zyklusgeschehens begegnet. Für jede Frau gib
 t es ein Skript zum Mitnehmen sowie Literatur- und Kräuterempfehlungen.\n
 Musik\, Bewegung und Entspannung lassen uns an diesem Abend unsere Weiblic
 hkeit feiern!\n\nReferentin: Kerstin Leubner (Sozialpädagogin\, Coach\, K
 räuterfrau)\n\nKosten: 15 Euro\n\nBitte unbedingt unter 0178 3926304 oder
  kerstin.leubner@gmail.com anmelden!
ATTACH;FMTTYPE=image/jpeg:https://lichtblick-fuer-familien.de/wp-content/u
 ploads/2016/04/image.jpg
CATEGORIES:Workshop
LOCATION:Familienzentrum Lichtblick e.V.\, Hauptstraße 56\, Markkleeberg\,
  04416 \, Landkreis Leipzig\, Deutschland
GEO:51.2802261;12.374097900000038
X-APPLE-STRUCTURED-LOCATION;VALUE=URI;X-ADDRESS=Hauptstraße 56\, Markkleeb
 erg\, 04416 \, Landkreis Leipzig\, Deutschland;X-APPLE-RADIUS=100;X-TITLE=
 Familienzentrum Lichtblick e.V.:geo:51.2802261,12.374097900000038
END:VEVENT
BEGIN:VTIMEZONE
TZID:Europe/Berlin
X-LIC-LOCATION:Europe/Berlin
BEGIN:DAYLIGHT
DTSTART:20170326T030000
TZOFFSETFROM:+0100
TZOFFSETTO:+0200
TZNAME:CEST
END:DAYLIGHT
END:VTIMEZONE
END:VCALENDAR