BEGIN:VCALENDAR
VERSION:2.0
PRODID:-//wp-events-plugin.com//7.2.3.1//EN
TZID:Europe/Berlin
X-WR-TIMEZONE:Europe/Berlin
BEGIN:VEVENT
UID:26283@lichtblick-fuer-familien.de
DTSTART;TZID=Europe/Berlin:20260429T160000
DTEND;TZID=Europe/Berlin:20260429T180000
DTSTAMP:20260421T125742Z
URL:https://lichtblick-fuer-familien.de/termine/elternseminar-hochsensibel
 -ist-nicht-zart-besaitet-hochsensibilitaet-was-ist-das-eigentlich-borna-2/
SUMMARY:Elternseminar: "HOCHSENSIBEL" ist nicht "zart besaitet"! Hochsensib
 ilität - was ist das eigentlich? (Borna) - Hebammenpraxis Borna - 29 Apr.
  26 16:00
DESCRIPTION:
CATEGORIES:Baby / Kind,Vortrag,Workshop
LOCATION:Hebammenpraxis Borna\, Kirchstraße 20-24\, Borna\, 04552\, Landkr
 eis Leipzig\, Deutschland
GEO:51.12529;12.497070000000008
X-APPLE-STRUCTURED-LOCATION;VALUE=URI;X-ADDRESS=Kirchstraße 20-24\, Borna\
 , 04552\, Landkreis Leipzig\, Deutschland;X-APPLE-RADIUS=100;X-TITLE=Hebam
 menpraxis Borna:geo:51.12529,12.497070000000008
END:VEVENT
BEGIN:VTIMEZONE
TZID:Europe/Berlin
X-LIC-LOCATION:Europe/Berlin
BEGIN:DAYLIGHT
DTSTART:20260329T030000
TZOFFSETFROM:+0100
TZOFFSETTO:+0200
TZNAME:CEST
END:DAYLIGHT
END:VTIMEZONE
END:VCALENDAR