BEGIN:VCALENDAR
VERSION:2.0
PRODID:-//wp-events-plugin.com//7.2.3.1//EN
TZID:Europe/Berlin
X-WR-TIMEZONE:Europe/Berlin
BEGIN:VEVENT
UID:26350@lichtblick-fuer-familien.de
DTSTART;TZID=Europe/Berlin:20260528T093000
DTEND;TZID=Europe/Berlin:20260528T110000
DTSTAMP:20260421T133725Z
URL:https://lichtblick-fuer-familien.de/termine/ernaehrung-von-babys-und-k
 leinkindern-ein-guter-start-von-anfang-an-4/
SUMMARY:Ernährung von Babys und Kleinkindern – ein guter Start von Anfan
 g an - Hebammenpraxis Storchenflug - 28 Mai 26 09:30
DESCRIPTION:Ernährungsberaterin Caroline Schmidt begleitet uns mit wertvol
 len Tipps und fundiertem Wissen rund um die Ernährung unserer Kleinsten. 
 Ob es um die Einführung der Beikost\, geeignete Lebensmittel für das ers
 te Lebensjahr oder den Übergang zum gemeinsamen Essen am Familientisch ge
 ht – alle Fragen sind herzlich willkommen!
CATEGORIES:Baby / Kind,Ernährung
LOCATION:Hebammenpraxis Storchenflug\, Straße der Freundschaft 6\, Frohbur
 g\, Sachsen\, 04654\, Deutschland
GEO:51.05612;12.559030000000007
X-APPLE-STRUCTURED-LOCATION;VALUE=URI;X-ADDRESS=Straße der Freundschaft 6\
 , Frohburg\, Sachsen\, 04654\, Deutschland;X-APPLE-RADIUS=100;X-TITLE=Heba
 mmenpraxis Storchenflug:geo:51.05612,12.559030000000007
END:VEVENT
BEGIN:VTIMEZONE
TZID:Europe/Berlin
X-LIC-LOCATION:Europe/Berlin
BEGIN:DAYLIGHT
DTSTART:20260329T030000
TZOFFSETFROM:+0100
TZOFFSETTO:+0200
TZNAME:CEST
END:DAYLIGHT
END:VTIMEZONE
END:VCALENDAR