BEGIN:VCALENDAR
VERSION:2.0
PRODID:-//wp-events-plugin.com//7.2.3.1//EN
TZID:Europe/Berlin
X-WR-TIMEZONE:Europe/Berlin
BEGIN:VEVENT
UID:14249@lichtblick-fuer-familien.de
DTSTART;TZID=Europe/Berlin:20170802T200000
DTEND;TZID=Europe/Berlin:20170802T213000
DTSTAMP:20170627T065535Z
URL:https://lichtblick-fuer-familien.de/termine/erziehung-beziehung-eltern
 kreis-9/
SUMMARY:Erziehung-Beziehung-Elternkreis - Familienzentrum Lichtblick e.V. -
  2 Aug. 17 20:00
DESCRIPTION:nach den Elternbriefen von Kloeters\, mit Katrin Trajkovits. Ko
 sten: 10 € / 5 € für Ermäßigungsberechtigte
LOCATION:Familienzentrum Lichtblick e.V.\, Hauptstraße 56\, Markkleeberg\,
  04416 \, Landkreis Leipzig\, Deutschland
GEO:51.2802261;12.374097900000038
X-APPLE-STRUCTURED-LOCATION;VALUE=URI;X-ADDRESS=Hauptstraße 56\, Markkleeb
 erg\, 04416 \, Landkreis Leipzig\, Deutschland;X-APPLE-RADIUS=100;X-TITLE=
 Familienzentrum Lichtblick e.V.:geo:51.2802261,12.374097900000038
END:VEVENT
BEGIN:VTIMEZONE
TZID:Europe/Berlin
X-LIC-LOCATION:Europe/Berlin
BEGIN:DAYLIGHT
DTSTART:20170326T030000
TZOFFSETFROM:+0100
TZOFFSETTO:+0200
TZNAME:CEST
END:DAYLIGHT
END:VTIMEZONE
END:VCALENDAR