BEGIN:VCALENDAR
VERSION:2.0
PRODID:-//wp-events-plugin.com//7.2.3.1//EN
TZID:Europe/Berlin
X-WR-TIMEZONE:Europe/Berlin
BEGIN:VEVENT
UID:24026@lichtblick-fuer-familien.de
DTSTART;TZID=Europe/Berlin:20240130T093000
DTEND;TZID=Europe/Berlin:20240130T110000
DTSTAMP:20240102T130208Z
URL:https://lichtblick-fuer-familien.de/termine/gemeinsam-wachsen-erste-hi
 lfe-bei-baby-und-kleinkindunfaellen-3/
SUMMARY:"Gemeinsam wachsen" Erste Hilfe bei Baby- und Kleinkindunfällen - 
 Praxisgemeinschaft für Physiotherapie & Rehasport - 30 Jan. 24 09:30
DESCRIPTION:In dieser Veranstaltung möchten wir die großen und kleinen No
 tfälle im Baby- und Kleinkindalter ansprechen und nützliche Hinweise zu 
 möglichen Gefahrenquellen sowie praktische Tipps zu deren Beseitigung ver
 mitteln. Die Veranstaltung wir von einer Mitarbeiterin des ASB Regionalver
 band Leipzig e.V. geleitet.\nAufgrund beschränkter Teilnehmerzahlen ist e
 ine verbindliche Anmeldung unbedingt notwendig!\n\nAnmeldung unter: fabimo
 bil@lichtblick-fuer-familien.de\n\n&nbsp\;
CATEGORIES:Beratung,Gesundheit
LOCATION:Praxisgemeinschaft für Physiotherapie & Rehasport\, Breitstraße 
 16\, Groitzsch\, 04539\, Landkreis Leipzig\, Deutschland
GEO:51.15620999999999;12.280939999999987
X-APPLE-STRUCTURED-LOCATION;VALUE=URI;X-ADDRESS=Breitstraße 16\, Groitzsch
 \, 04539\, Landkreis Leipzig\, Deutschland;X-APPLE-RADIUS=100;X-TITLE=Prax
 isgemeinschaft für Physiotherapie & Rehasport:geo:51.15620999999999,12.28
 0939999999987
END:VEVENT
BEGIN:VTIMEZONE
TZID:Europe/Berlin
X-LIC-LOCATION:Europe/Berlin
BEGIN:STANDARD
DTSTART:20231029T020000
TZOFFSETFROM:+0200
TZOFFSETTO:+0100
TZNAME:CET
END:STANDARD
END:VTIMEZONE
END:VCALENDAR