BEGIN:VCALENDAR
VERSION:2.0
PRODID:-//wp-events-plugin.com//7.2.3.1//EN
TZID:Europe/Berlin
X-WR-TIMEZONE:Europe/Berlin
BEGIN:VEVENT
UID:26284@lichtblick-fuer-familien.de
DTSTART;TZID=Europe/Berlin:20260506T190000
DTEND;TZID=Europe/Berlin:20260506T203000
DTSTAMP:20260421T130140Z
URL:https://lichtblick-fuer-familien.de/termine/mamazeit-kleine-pause-vom-
 alltag-mit-entspannung-austausch-kakaozeremonie-borna/
SUMMARY:MamaZeit … kleine Pause vom Alltag mit Entspannung\, Austausch & 
 Kakaozeremonie (Borna) - Hebammenpraxis Borna - 6 Mai 26 19:00
DESCRIPTION:Der Alltag mit Familie fordert viel – umso wichtiger sind kle
 ine Momente für dich selbst. Die MamaZeit bietet dir Raum zum Entspannen\
 , Durchatmen und Kraft auftanken.\n\n🌿 Ruhe\, Ankommen &amp\; Momente n
 ur für dich\n🌿 Gemeinsames Kakao-Ritual\n🌿 Zeit zum Abschalten &amp
 \; Austausch mit anderen Müttern\n\nEs sind keine Vorerfahrungen nötig 
 – nur du und deine Bereitschaft\, dir selbst diese Zeit zu schenken.\n\n
 Kati Gantke wird diese wohltuende Zeit für und mit Euch gestalten.\n\nLas
 s dich überraschen!
LOCATION:Hebammenpraxis Borna\, Kirchstraße 20-24\, Borna\, 04552\, Landkr
 eis Leipzig\, Deutschland
GEO:51.12529;12.497070000000008
X-APPLE-STRUCTURED-LOCATION;VALUE=URI;X-ADDRESS=Kirchstraße 20-24\, Borna\
 , 04552\, Landkreis Leipzig\, Deutschland;X-APPLE-RADIUS=100;X-TITLE=Hebam
 menpraxis Borna:geo:51.12529,12.497070000000008
END:VEVENT
BEGIN:VTIMEZONE
TZID:Europe/Berlin
X-LIC-LOCATION:Europe/Berlin
BEGIN:DAYLIGHT
DTSTART:20260329T030000
TZOFFSETFROM:+0100
TZOFFSETTO:+0200
TZNAME:CEST
END:DAYLIGHT
END:VTIMEZONE
END:VCALENDAR