BEGIN:VCALENDAR
VERSION:2.0
PRODID:-//wp-events-plugin.com//7.2.3.1//EN
TZID:Europe/Berlin
X-WR-TIMEZONE:Europe/Berlin
BEGIN:VEVENT
UID:26308@lichtblick-fuer-familien.de
DTSTART;TZID=Europe/Berlin:20260506T160000
DTEND;TZID=Europe/Berlin:20260506T170000
DTSTAMP:20260421T131402Z
URL:https://lichtblick-fuer-familien.de/termine/musik-fuer-grosse-und-klei
 ne-mit-spiel-spass-und-bewegung-borna-2-2026-04-22-2026-05-06/
SUMMARY:Musik für Große und Kleine - mit Spiel\, Spaß und Bewegung (Born
 a) - Hebammenpraxis Borna - 6 Mai 26 16:00
DESCRIPTION:Musik für Große und Kleine!\nmit Spiel\, Spaß und Bewegung\n
 \nEin liebevoll gestaltetes\, fortlaufendes Angebot für Eltern mit Kinder
 n ab 18 Monate bis 3 Jahre\n\nWas erwartet euch?\n\n 	Singen\, Tanzen\, Ra
 sseln\, Lachen\n 	Spielerische Bewegung\n 	Gemeinsame Zeit für Eltern &am
 p\; Kinder\n 	Neue Kontakte &amp\; Austausch\n\nWann und wo?\n\n 	Montags
  in Pegau – Volkshaus\, Kirchplatz 3 von 15:15-16:15 Uhr\n 	Mittwochs in
  Borna – Hebammenpraxis\, Kirchstraße 20 von 16:00-17:00 Uhr\n\n14-täg
 ig\nEinstieg jederzeit möglich!\nKosten: Nur 1 € pro Termin
LOCATION:Hebammenpraxis Borna\, Kirchstraße 20-24\, Borna\, 04552\, Landkr
 eis Leipzig\, Deutschland
GEO:51.12529;12.497070000000008
X-APPLE-STRUCTURED-LOCATION;VALUE=URI;X-ADDRESS=Kirchstraße 20-24\, Borna\
 , 04552\, Landkreis Leipzig\, Deutschland;X-APPLE-RADIUS=100;X-TITLE=Hebam
 menpraxis Borna:geo:51.12529,12.497070000000008
END:VEVENT
BEGIN:VTIMEZONE
TZID:Europe/Berlin
X-LIC-LOCATION:Europe/Berlin
BEGIN:DAYLIGHT
DTSTART:20260329T030000
TZOFFSETFROM:+0100
TZOFFSETTO:+0200
TZNAME:CEST
END:DAYLIGHT
END:VTIMEZONE
END:VCALENDAR