BEGIN:VCALENDAR
VERSION:2.0
PRODID:-//wp-events-plugin.com//7.2.3.1//EN
TZID:Europe/Berlin
X-WR-TIMEZONE:Europe/Berlin
BEGIN:VEVENT
UID:26330@lichtblick-fuer-familien.de
DTSTART;TZID=Europe/Berlin:20260608T151500
DTEND;TZID=Europe/Berlin:20260608T161500
DTSTAMP:20260421T131942Z
URL:https://lichtblick-fuer-familien.de/termine/musik-fuer-grosse-und-klei
 ne-mit-spiel-spass-und-bewegung-pegau-2026-06-08/
SUMMARY:Musik für Große und Kleine - mit Spiel\, Spaß und Bewegung (Pega
 u) - Volkshaus Pegau - 8 Juni 26 15:15
DESCRIPTION:Musik für Große und Kleine!\nmit Spiel\, Spaß und Bewegung\n
 \nEin liebevoll gestaltetes\, fortlaufendes Angebot für Eltern mit Kinder
 n ab 18 Monate bis 3 Jahre\n\nWas erwartet euch?\n\n 	Singen\, Tanzen\, Ra
 sseln\, Lachen\n 	Spielerische Bewegung\n 	Gemeinsame Zeit für Eltern &am
 p\; Kinder\n 	Neue Kontakte &amp\; Austausch\n\nWann und wo?\n\n 	Montags
  in Pegau – Volkshaus\, Kirchplatz 3 von 15:15-16:15 Uhr\n 	Mittwochs in
  Borna – Hebammenpraxis\, Kirchstraße 20 von 16:00-17:00 Uhr\n\n14-täg
 ig\nEinstieg jederzeit möglich!\nKosten: Nur 1 € pro Termin
CATEGORIES:Eltern-Kind- Angebot
LOCATION:Volkshaus Pegau\, Kirchplatz 3\, Pegau\, Sachsen\, 04523\, Deutsch
 land
GEO:51.166034;12.254048
X-APPLE-STRUCTURED-LOCATION;VALUE=URI;X-ADDRESS=Kirchplatz 3\, Pegau\, Sach
 sen\, 04523\, Deutschland;X-APPLE-RADIUS=100;X-TITLE=Volkshaus Pegau:geo:5
 1.166034,12.254048
END:VEVENT
BEGIN:VTIMEZONE
TZID:Europe/Berlin
X-LIC-LOCATION:Europe/Berlin
BEGIN:DAYLIGHT
DTSTART:20260329T030000
TZOFFSETFROM:+0100
TZOFFSETTO:+0200
TZNAME:CEST
END:DAYLIGHT
END:VTIMEZONE
END:VCALENDAR