BEGIN:VCALENDAR
VERSION:2.0
PRODID:-//wp-events-plugin.com//7.2.3.1//EN
TZID:Europe/Berlin
X-WR-TIMEZONE:Europe/Berlin
BEGIN:VEVENT
UID:26347@lichtblick-fuer-familien.de
DTSTART;TZID=Europe/Berlin:20260520T180000
DTEND;TZID=Europe/Berlin:20260520T200000
DTSTAMP:20260421T132917Z
URL:https://lichtblick-fuer-familien.de/termine/systemischer-nachmittag-fu
 er-eltern-familiensysteme-besser-verstehen-borna/
SUMMARY:Systemischer Nachmittag für Eltern – Familiensysteme besser vers
 tehen (Borna) - Hebammenpraxis Borna - 20 Mai 26 18:00
DESCRIPTION:Was ist das Familiensystem? Was passiert beim systemischen Arbe
 iten? Welche Gesetzmäßigkeiten verbinden uns mit unseren Kindern? Wie ze
 igt es sich\, wenn diese durcheinandergeraten\, und wodurch kann das passi
 eren? Ihr erlebt in einfachen Begegnungsübungen spielerisch\, wie sich s
 ystemische Dynamiken anfühlen\, wie sie auf uns wirken und welche großar
 tigen Potentiale sie für uns bereithalten. Ob neugierig\, skeptisch\, mi
 t Vorwissen oder ganz frisch in der Thematik – wenn du ein neues\, tiefe
 s Verständnis für dich und deine Familie aufbauen möchtest\, ist dieser
  Abend der perfekte Einstieg für dich. Als Grundlage dienen uns hierbei 
 die Lehren der systemischen Arbeit nach B. Hellinger.\n\nmit Mareike Heinz
 e (Systemische Wegbegleiterin)\n\nTermin: 20.05.2026 von 18:00-20:00 Uhr\n
 Borna: Hebammenpraxis Borna\, Kirchstraße 20\n\nKosten: 1 Euro
CATEGORIES:Baby / Kind,Beratung,Entspannung,Praxisseminar,Vortrag,Workshop
LOCATION:Hebammenpraxis Borna\, Kirchstraße 20-24\, Borna\, 04552\, Landkr
 eis Leipzig\, Deutschland
GEO:51.12529;12.497070000000008
X-APPLE-STRUCTURED-LOCATION;VALUE=URI;X-ADDRESS=Kirchstraße 20-24\, Borna\
 , 04552\, Landkreis Leipzig\, Deutschland;X-APPLE-RADIUS=100;X-TITLE=Hebam
 menpraxis Borna:geo:51.12529,12.497070000000008
END:VEVENT
BEGIN:VTIMEZONE
TZID:Europe/Berlin
X-LIC-LOCATION:Europe/Berlin
BEGIN:DAYLIGHT
DTSTART:20260329T030000
TZOFFSETFROM:+0100
TZOFFSETTO:+0200
TZNAME:CEST
END:DAYLIGHT
END:VTIMEZONE
END:VCALENDAR