BEGIN:VCALENDAR
VERSION:2.0
PRODID:-//wp-events-plugin.com//7.2.3.1//EN
TZID:Europe/Berlin
X-WR-TIMEZONE:Europe/Berlin
BEGIN:VEVENT
UID:26282@lichtblick-fuer-familien.de
DTSTART;TZID=Europe/Berlin:20260422T093000
DTEND;TZID=Europe/Berlin:20260422T110000
DTSTAMP:20260421T115256Z
URL:https://lichtblick-fuer-familien.de/termine/vom-krabbeln-zum-laufen-be
 wegungsentwicklung-von-babys-borna/
SUMMARY:Vom Krabbeln zum Laufen – Bewegungsentwicklung von Babys (Borna) 
 - Hebammenpraxis Borna - 22 Apr. 26 09:30
DESCRIPTION:In der Veranstaltung wird ein Überblick über die wichtigsten 
 Entwicklungsschritte im 1. Lebensjahr gegeben. Den Eltern wird gezeigt\, w
 ie sie ihr Kind optimal begleiten können\, was förderlich\, aber auch hi
 nderlich für eine gesunde Bewegungsentwicklung ist.
LOCATION:Hebammenpraxis Borna\, Kirchstraße 20-24\, Borna\, 04552\, Landkr
 eis Leipzig\, Deutschland
GEO:51.12529;12.497070000000008
X-APPLE-STRUCTURED-LOCATION;VALUE=URI;X-ADDRESS=Kirchstraße 20-24\, Borna\
 , 04552\, Landkreis Leipzig\, Deutschland;X-APPLE-RADIUS=100;X-TITLE=Hebam
 menpraxis Borna:geo:51.12529,12.497070000000008
END:VEVENT
BEGIN:VTIMEZONE
TZID:Europe/Berlin
X-LIC-LOCATION:Europe/Berlin
BEGIN:DAYLIGHT
DTSTART:20260329T030000
TZOFFSETFROM:+0100
TZOFFSETTO:+0200
TZNAME:CEST
END:DAYLIGHT
END:VTIMEZONE
END:VCALENDAR