BEGIN:VCALENDAR
VERSION:2.0
PRODID:-//wp-events-plugin.com//7.2.3.1//EN
TZID:Europe/Berlin
X-WR-TIMEZONE:Europe/Berlin
BEGIN:VEVENT
UID:12656@lichtblick-fuer-familien.de
DTSTART;TZID=Europe/Berlin;VALUE=DATE:20161219
DTEND;TZID=Europe/Berlin;VALUE=DATE:20161224
DTSTAMP:20170111T073457Z
URL:https://lichtblick-fuer-familien.de/termine/weihnachtsfrieden-das-fami
 lienzentrum-hat-eingeschraenkte-oeffnungszeiten/
SUMMARY:Weihnachtsfrieden: Das Familienzentrum hat eingeschränkte Öffnung
 szeiten!!! - Familienzentrum Lichtblick e.V. - 19 Dez. 16 00:00
DESCRIPTION:In der Zeit vom 19.12. bis 23.12.2016 und 02.01. bis 04.01.2017
  hat das Büro des Familienzentrums von 9 bis 13 Uhr geöffnet. Die Krabbe
 lgruppen\, Klex und Klax sowie das Familiencafé finden ab dem 05.01.2017 
 wieder statt.\nWir wünschen Allen eine angenehme Adventszeit\, ein schön
 es Weihnachtsfest im Kreise der Lieben und einen guten Start ins Jahr 2017
 !
ATTACH;FMTTYPE=image/jpeg:https://lichtblick-fuer-familien.de/wp-content/u
 ploads/2011/08/Hausbilder-015.jpg
CATEGORIES:Weitere Angebote
LOCATION:Familienzentrum Lichtblick e.V.\, Hauptstraße 56\, Markkleeberg\,
  04416 \, Landkreis Leipzig\, Deutschland
GEO:51.2802261;12.374097900000038
X-APPLE-STRUCTURED-LOCATION;VALUE=URI;X-ADDRESS=Hauptstraße 56\, Markkleeb
 erg\, 04416 \, Landkreis Leipzig\, Deutschland;X-APPLE-RADIUS=100;X-TITLE=
 Familienzentrum Lichtblick e.V.:geo:51.2802261,12.374097900000038
END:VEVENT
BEGIN:VTIMEZONE
TZID:Europe/Berlin
X-LIC-LOCATION:Europe/Berlin
BEGIN:STANDARD
DTSTART:20161030T020000
TZOFFSETFROM:+0200
TZOFFSETTO:+0100
TZNAME:CET
END:STANDARD
END:VTIMEZONE
END:VCALENDAR