BEGIN:VCALENDAR
VERSION:2.0
PRODID:-//wp-events-plugin.com//7.2.3.1//EN
TZID:Europe/Berlin
X-WR-TIMEZONE:Europe/Berlin
BEGIN:VEVENT
UID:19102@lichtblick-fuer-familien.de
DTSTART;TZID=Europe/Berlin:20191218T150000
DTEND;TZID=Europe/Berlin:20191218T173000
DTSTAMP:20191113T091545Z
URL:https://lichtblick-fuer-familien.de/termine/winterspielplatz-2019-12-1
 8/
SUMMARY:Winterspielplatz - Familienzentrum Lichtblick e.V. - 18 Dez. 19 15:
 00
DESCRIPTION:Eltern-Kind-Treff zum gemeinsamen spielen für Kinder bis 5 Jah
 re
LOCATION:Familienzentrum Lichtblick e.V.\, Hauptstraße 56\, Markkleeberg\,
  04416 \, Landkreis Leipzig\, Deutschland
GEO:51.2802261;12.374097900000038
X-APPLE-STRUCTURED-LOCATION;VALUE=URI;X-ADDRESS=Hauptstraße 56\, Markkleeb
 erg\, 04416 \, Landkreis Leipzig\, Deutschland;X-APPLE-RADIUS=100;X-TITLE=
 Familienzentrum Lichtblick e.V.:geo:51.2802261,12.374097900000038
END:VEVENT
BEGIN:VTIMEZONE
TZID:Europe/Berlin
X-LIC-LOCATION:Europe/Berlin
BEGIN:STANDARD
DTSTART:20191027T020000
TZOFFSETFROM:+0200
TZOFFSETTO:+0100
TZNAME:CET
END:STANDARD
END:VTIMEZONE
END:VCALENDAR