BEGIN:VCALENDAR
VERSION:2.0
PRODID:-//wp-events-plugin.com//7.2.3.1//EN
TZID:Europe/Berlin
X-WR-TIMEZONE:Europe/Berlin
BEGIN:VEVENT
UID:26272@lichtblick-fuer-familien.de
DTSTART;TZID=Europe/Berlin:20260522T090000
DTEND;TZID=Europe/Berlin:20260522T110000
DTSTAMP:20260420T080020Z
URL:https://lichtblick-fuer-familien.de/termine/workshop-wertschaetzung-im
 -familienalltag/
SUMMARY:Workshop: Wertschätzung im Familienalltag - Familienzentrum Lichtb
 lick e.V. - 22 Mai 26 09:00
DESCRIPTION:auf Basis der Gewaltfreien Kommunikation mit Dr. Katharina Stor
 ch (GfK-Trainerin)\n\nAnmeldung unter fz@lichtblick-fuer-familien.de
CATEGORIES:Praxisseminar,Workshop
LOCATION:Familienzentrum Lichtblick e.V.\, Hauptstraße 56\, Markkleeberg\,
  04416 \, Landkreis Leipzig\, Deutschland
GEO:51.2802261;12.374097900000038
X-APPLE-STRUCTURED-LOCATION;VALUE=URI;X-ADDRESS=Hauptstraße 56\, Markkleeb
 erg\, 04416 \, Landkreis Leipzig\, Deutschland;X-APPLE-RADIUS=100;X-TITLE=
 Familienzentrum Lichtblick e.V.:geo:51.2802261,12.374097900000038
END:VEVENT
BEGIN:VTIMEZONE
TZID:Europe/Berlin
X-LIC-LOCATION:Europe/Berlin
BEGIN:DAYLIGHT
DTSTART:20260329T030000
TZOFFSETFROM:+0100
TZOFFSETTO:+0200
TZNAME:CEST
END:DAYLIGHT
END:VTIMEZONE
END:VCALENDAR